BEGIN:VCALENDAR
VERSION:2.0
PRODID:Events Booking
BEGIN:VEVENT
UID:69e51724e2950
SUMMARY:2024 August 5 - Detroit PCC Annual Golf Event
DESCRIPTION:Hope to see you next year
 GMA&nbsp\; Sponsored Prize Holes&nb
 sp\; 
 &nbsp\;Register your foursome and take your best shot!
 
 $10\,0
 00&nbsp\; for a Hole in One (East Hole 8)
 Vacation for four (4) at the e
 xquisite and breathtaking Lajitas Golf Resort &amp\; Spa in Lajitas\, TX (
 West Hole 4)
 $500 Callaway Golf Shopping Spree (East Hole 5)
 Choice of
  Swing Caddie SC200 Portable Launch Monitor or&nbsp\; L4 Laser Rangefinder
  with Slope (West Hole 8)
 
 Event Sponsor:
 
 
 
 
 Links of Novi 
  50395 W 10 Mile Rd&nbsp\; &nbsp\; &nbsp\;Novi MI 48374 Monday\, August 5\
 , 2024
 
 9:30 am Registration&nbsp\; &nbsp\;&nbsp\;Reserve Your Spot!

  Individual Golfers $145 includes:
 
 Use of Driving Range\, cart\, hot 
 dog\, chips and pop at the turn.
 Enjoy Buffet Steak Dinner and Door Priz
 e drawings.
 We are playing a scramble with modified shot-gun start at 10
 :00 am
 Make your own foursome or we can place you on a team
 
 Guests 
 can attend Dinner for $55 each
 Hole Sponsor Sold Out.
 You can still ad
 vertise and promote your business.&nbsp\; We will place signs on the Drivi
 ng range or Putting green.&nbsp\; &nbsp\; &nbsp\; &nbsp\; &nbsp\; &nbsp\; 
 &nbsp\; &nbsp\; &nbsp\; &nbsp\;Still a&nbsp\; great investment.$125 per si
 gn - sponsor one or two.&nbsp\; &nbsp\;&nbsp\;
 Thank you for your contin
 ued support in making this event a great success.
 
 &nbsp\;Questions? P
 lease call Dan Lesperance at 313-225-5444
 
 .
LOCATION:50395 W 10 Mile Rd\, Novi\, MI 48374\, USA
DTSTART:20240805T133000Z
DTEND:20240805T200000Z
DTSTAMP:20240409T212238Z
ORGANIZER;CN=Detroit Postal Customer Council:MAILTO:info@detroitpcc.com
GEO:42.462807;-83.543744
X-APPLE-STRUCTURED-LOCATION;VALUE=URI;X-ADDRESS=50395 W 10 Mile Rd\, Novi\,
  MI 48374\, USA;X-APPLE-RADIUS=72;X-TITLE=Links of Novi:42.462807;-83.5437
 44
END:VEVENT
END:VCALENDAR